BEGIN:VCALENDAR
VERSION:2.0
PRODID:-//wp-events-plugin.com//7.2.3.1//EN
TZID:Europe/Berlin
X-WR-TIMEZONE:Europe/Berlin
BEGIN:VEVENT
UID:9667@freilandlabor-britz.de
DTSTART;TZID=Europe/Berlin:20260425T140000
DTEND;TZID=Europe/Berlin:20260425T153000
DTSTAMP:20260203T111647Z
URL:https://www.freilandlabor-britz.de/aktuelles/programm/essbare-wildkrae
 uter-in-huelle-und-fuelle/
SUMMARY:Essbare Wildkräuter in Hülle und Fülle
DESCRIPTION:Die Natur schenkt uns alle Schätze für eine gesunde Ernährun
 g. Karin Wichterey führt uns zu geeigneten Wildkräutern und erklärt\, w
 ie sie sich als „Frühjahrsputz“ für unseren Körper verwenden lassen
 .
LOCATION:Britzer Garten\, Britzer Garten\, Deutschland
X-APPLE-STRUCTURED-LOCATION;VALUE=URI;X-ADDRESS=Britzer Garten\, Deutschlan
 d;X-APPLE-RADIUS=100;X-TITLE=Britzer Garten:geo:0,0
END:VEVENT
BEGIN:VTIMEZONE
TZID:Europe/Berlin
X-LIC-LOCATION:Europe/Berlin
BEGIN:DAYLIGHT
DTSTART:20260329T030000
TZOFFSETFROM:+0100
TZOFFSETTO:+0200
TZNAME:CEST
END:DAYLIGHT
END:VTIMEZONE
END:VCALENDARBEGIN:VCALENDAR
VERSION:2.0
PRODID:-//wp-events-plugin.com//7.2.3.1//EN
TZID:Europe/Berlin
X-WR-TIMEZONE:Europe/Berlin
BEGIN:VEVENT
UID:9667@freilandlabor-britz.de
DTSTART;TZID=Europe/Berlin:20260425T140000
DTEND;TZID=Europe/Berlin:20260425T153000
DTSTAMP:20260203T111647Z
URL:https://www.freilandlabor-britz.de/aktuelles/programm/essbare-wildkrae
 uter-in-huelle-und-fuelle/
SUMMARY:Essbare Wildkräuter in Hülle und Fülle
DESCRIPTION:Die Natur schenkt uns alle Schätze für eine gesunde Ernährun
 g. Karin Wichterey führt uns zu geeigneten Wildkräutern und erklärt\, w
 ie sie sich als „Frühjahrsputz“ für unseren Körper verwenden lassen
 .
LOCATION:Britzer Garten\, Britzer Garten\, Deutschland
X-APPLE-STRUCTURED-LOCATION;VALUE=URI;X-ADDRESS=Britzer Garten\, Deutschlan
 d;X-APPLE-RADIUS=100;X-TITLE=Britzer Garten:geo:0,0
END:VEVENT
BEGIN:VTIMEZONE
TZID:Europe/Berlin
X-LIC-LOCATION:Europe/Berlin
BEGIN:DAYLIGHT
DTSTART:20260329T030000
TZOFFSETFROM:+0100
TZOFFSETTO:+0200
TZNAME:CEST
END:DAYLIGHT
END:VTIMEZONE
END:VCALENDAR