BEGIN:VCALENDAR
VERSION:2.0
PRODID:-//wp-events-plugin.com//7.2.3.1//EN
TZID:Europe/Berlin
X-WR-TIMEZONE:Europe/Berlin
BEGIN:VEVENT
UID:9708@freilandlabor-britz.de
DTSTART;TZID=Europe/Berlin:20260510T140000
DTEND;TZID=Europe/Berlin:20260510T160000
DTSTAMP:20260423T125414Z
URL:https://www.freilandlabor-britz.de/aktuelles/programm/familie-forscht-
 wie-hoert-sich-das-tempelhofer-feld-an/
SUMMARY:Familie forscht: Wie klingt das Tempelhofer Feld?
DESCRIPTION:Bei einem Spaziergang erforschen wir allerlei Geräusche und pr
 obieren aus\, wie und womit man diese verstärken oder dämpfen kann.
LOCATION:Tempelhofer Feld\, Tempelhofer Feld\, Deutschland
X-APPLE-STRUCTURED-LOCATION;VALUE=URI;X-ADDRESS=Tempelhofer Feld\, Deutschl
 and;X-APPLE-RADIUS=100;X-TITLE=Tempelhofer Feld:geo:0,0
END:VEVENT
BEGIN:VTIMEZONE
TZID:Europe/Berlin
X-LIC-LOCATION:Europe/Berlin
BEGIN:DAYLIGHT
DTSTART:20260329T030000
TZOFFSETFROM:+0100
TZOFFSETTO:+0200
TZNAME:CEST
END:DAYLIGHT
END:VTIMEZONE
END:VCALENDARBEGIN:VCALENDAR
VERSION:2.0
PRODID:-//wp-events-plugin.com//7.2.3.1//EN
TZID:Europe/Berlin
X-WR-TIMEZONE:Europe/Berlin
BEGIN:VEVENT
UID:9708@freilandlabor-britz.de
DTSTART;TZID=Europe/Berlin:20260510T140000
DTEND;TZID=Europe/Berlin:20260510T160000
DTSTAMP:20260423T125414Z
URL:https://www.freilandlabor-britz.de/aktuelles/programm/familie-forscht-
 wie-hoert-sich-das-tempelhofer-feld-an/
SUMMARY:Familie forscht: Wie klingt das Tempelhofer Feld?
DESCRIPTION:Bei einem Spaziergang erforschen wir allerlei Geräusche und pr
 obieren aus\, wie und womit man diese verstärken oder dämpfen kann.
LOCATION:Tempelhofer Feld\, Tempelhofer Feld\, Deutschland
X-APPLE-STRUCTURED-LOCATION;VALUE=URI;X-ADDRESS=Tempelhofer Feld\, Deutschl
 and;X-APPLE-RADIUS=100;X-TITLE=Tempelhofer Feld:geo:0,0
END:VEVENT
BEGIN:VTIMEZONE
TZID:Europe/Berlin
X-LIC-LOCATION:Europe/Berlin
BEGIN:DAYLIGHT
DTSTART:20260329T030000
TZOFFSETFROM:+0100
TZOFFSETTO:+0200
TZNAME:CEST
END:DAYLIGHT
END:VTIMEZONE
END:VCALENDAR