BEGIN:VCALENDAR
VERSION:2.0
PRODID:-//wp-events-plugin.com//7.2.3.1//EN
TZID:Europe/Berlin
X-WR-TIMEZONE:Europe/Berlin
BEGIN:VEVENT
UID:9704@freilandlabor-britz.de
DTSTART;TZID=Europe/Berlin:20260516T140000
DTEND;TZID=Europe/Berlin:20260516T160000
DTSTAMP:20260415T090248Z
URL:https://www.freilandlabor-britz.de/aktuelles/programm/familie-forscht-
 wildkraeutertour/
SUMMARY:Familie forscht: Wildkräutertour
DESCRIPTION:Familien tauchen mit Julia Müller in die Welt der Wildkräuter
  ein. Entdecken Sie\, welche Mythen\, Sagen und Märchen hinter welchen K
 räutern stecken und lernen Sie\, welche Sie davon mit gutem Gewissen ver
 speisen können.
LOCATION:Britzer Garten\, Britzer Garten\, Deutschland
X-APPLE-STRUCTURED-LOCATION;VALUE=URI;X-ADDRESS=Britzer Garten\, Deutschlan
 d;X-APPLE-RADIUS=100;X-TITLE=Britzer Garten:geo:0,0
END:VEVENT
BEGIN:VTIMEZONE
TZID:Europe/Berlin
X-LIC-LOCATION:Europe/Berlin
BEGIN:DAYLIGHT
DTSTART:20260329T030000
TZOFFSETFROM:+0100
TZOFFSETTO:+0200
TZNAME:CEST
END:DAYLIGHT
END:VTIMEZONE
END:VCALENDARBEGIN:VCALENDAR
VERSION:2.0
PRODID:-//wp-events-plugin.com//7.2.3.1//EN
TZID:Europe/Berlin
X-WR-TIMEZONE:Europe/Berlin
BEGIN:VEVENT
UID:9704@freilandlabor-britz.de
DTSTART;TZID=Europe/Berlin:20260516T140000
DTEND;TZID=Europe/Berlin:20260516T160000
DTSTAMP:20260415T090248Z
URL:https://www.freilandlabor-britz.de/aktuelles/programm/familie-forscht-
 wildkraeutertour/
SUMMARY:Familie forscht: Wildkräutertour
DESCRIPTION:Familien tauchen mit Julia Müller in die Welt der Wildkräuter
  ein. Entdecken Sie\, welche Mythen\, Sagen und Märchen hinter welchen K
 räutern stecken und lernen Sie\, welche Sie davon mit gutem Gewissen ver
 speisen können.
LOCATION:Britzer Garten\, Britzer Garten\, Deutschland
X-APPLE-STRUCTURED-LOCATION;VALUE=URI;X-ADDRESS=Britzer Garten\, Deutschlan
 d;X-APPLE-RADIUS=100;X-TITLE=Britzer Garten:geo:0,0
END:VEVENT
BEGIN:VTIMEZONE
TZID:Europe/Berlin
X-LIC-LOCATION:Europe/Berlin
BEGIN:DAYLIGHT
DTSTART:20260329T030000
TZOFFSETFROM:+0100
TZOFFSETTO:+0200
TZNAME:CEST
END:DAYLIGHT
END:VTIMEZONE
END:VCALENDAR