BEGIN:VCALENDAR
VERSION:2.0
PRODID:-//wp-events-plugin.com//7.2.3.1//EN
TZID:Europe/Berlin
X-WR-TIMEZONE:Europe/Berlin
BEGIN:VEVENT
UID:9703@freilandlabor-britz.de
DTSTART;TZID=Europe/Berlin:20260510T140000
DTEND;TZID=Europe/Berlin:20260510T160000
DTSTAMP:20260415T090110Z
URL:https://www.freilandlabor-britz.de/aktuelles/programm/haeufige-flechte
 n-bestimmen-lernen-2/
SUMMARY:Häufige Flechten bestimmen lernen
DESCRIPTION:Flechten sind keine Tiere und auch keine Pflanzen. Es sind Dopp
 elwesen\, bestehend aus Algen und Pilzen. Der Biologe Dr. Uwe Lohmeier ste
 llt häufige Arten vor und erläutert ihre Lebensweise.
LOCATION:Britzer Garten\, Britzer Garten\, Deutschland
X-APPLE-STRUCTURED-LOCATION;VALUE=URI;X-ADDRESS=Britzer Garten\, Deutschlan
 d;X-APPLE-RADIUS=100;X-TITLE=Britzer Garten:geo:0,0
END:VEVENT
BEGIN:VTIMEZONE
TZID:Europe/Berlin
X-LIC-LOCATION:Europe/Berlin
BEGIN:DAYLIGHT
DTSTART:20260329T030000
TZOFFSETFROM:+0100
TZOFFSETTO:+0200
TZNAME:CEST
END:DAYLIGHT
END:VTIMEZONE
END:VCALENDARBEGIN:VCALENDAR
VERSION:2.0
PRODID:-//wp-events-plugin.com//7.2.3.1//EN
TZID:Europe/Berlin
X-WR-TIMEZONE:Europe/Berlin
BEGIN:VEVENT
UID:9703@freilandlabor-britz.de
DTSTART;TZID=Europe/Berlin:20260510T140000
DTEND;TZID=Europe/Berlin:20260510T160000
DTSTAMP:20260415T090110Z
URL:https://www.freilandlabor-britz.de/aktuelles/programm/haeufige-flechte
 n-bestimmen-lernen-2/
SUMMARY:Häufige Flechten bestimmen lernen
DESCRIPTION:Flechten sind keine Tiere und auch keine Pflanzen. Es sind Dopp
 elwesen\, bestehend aus Algen und Pilzen. Der Biologe Dr. Uwe Lohmeier ste
 llt häufige Arten vor und erläutert ihre Lebensweise.
LOCATION:Britzer Garten\, Britzer Garten\, Deutschland
X-APPLE-STRUCTURED-LOCATION;VALUE=URI;X-ADDRESS=Britzer Garten\, Deutschlan
 d;X-APPLE-RADIUS=100;X-TITLE=Britzer Garten:geo:0,0
END:VEVENT
BEGIN:VTIMEZONE
TZID:Europe/Berlin
X-LIC-LOCATION:Europe/Berlin
BEGIN:DAYLIGHT
DTSTART:20260329T030000
TZOFFSETFROM:+0100
TZOFFSETTO:+0200
TZNAME:CEST
END:DAYLIGHT
END:VTIMEZONE
END:VCALENDAR