BEGIN:VCALENDAR
VERSION:2.0
PRODID:-//wp-events-plugin.com//7.2.3.1//EN
TZID:Europe/Berlin
X-WR-TIMEZONE:Europe/Berlin
BEGIN:VEVENT
UID:9706@freilandlabor-britz.de
DTSTART;TZID=Europe/Berlin:20260529T170000
DTEND;TZID=Europe/Berlin:20260529T183000
DTSTAMP:20260415T090844Z
URL:https://www.freilandlabor-britz.de/aktuelles/programm/heilpflanzenwand
 erung/
SUMMARY:Heilpflanzenwanderung
DESCRIPTION:Im Mai eröffnet die Natur wieder neue Möglichkeiten für uns.
  Sie bietet uns großzügig ihre Schätze für Ernährung und Gesundheit a
 n – wir müssen ihre Pflanzen nur erkennen. Karin Wichterey führt Sie b
 ei diesem Kennenlernen behutsam durchs Gelände.
LOCATION:Britzer Garten\, Britzer Garten\, Deutschland
X-APPLE-STRUCTURED-LOCATION;VALUE=URI;X-ADDRESS=Britzer Garten\, Deutschlan
 d;X-APPLE-RADIUS=100;X-TITLE=Britzer Garten:geo:0,0
END:VEVENT
BEGIN:VTIMEZONE
TZID:Europe/Berlin
X-LIC-LOCATION:Europe/Berlin
BEGIN:DAYLIGHT
DTSTART:20260329T030000
TZOFFSETFROM:+0100
TZOFFSETTO:+0200
TZNAME:CEST
END:DAYLIGHT
END:VTIMEZONE
END:VCALENDARBEGIN:VCALENDAR
VERSION:2.0
PRODID:-//wp-events-plugin.com//7.2.3.1//EN
TZID:Europe/Berlin
X-WR-TIMEZONE:Europe/Berlin
BEGIN:VEVENT
UID:9706@freilandlabor-britz.de
DTSTART;TZID=Europe/Berlin:20260529T170000
DTEND;TZID=Europe/Berlin:20260529T183000
DTSTAMP:20260415T090844Z
URL:https://www.freilandlabor-britz.de/aktuelles/programm/heilpflanzenwand
 erung/
SUMMARY:Heilpflanzenwanderung
DESCRIPTION:Im Mai eröffnet die Natur wieder neue Möglichkeiten für uns.
  Sie bietet uns großzügig ihre Schätze für Ernährung und Gesundheit a
 n – wir müssen ihre Pflanzen nur erkennen. Karin Wichterey führt Sie b
 ei diesem Kennenlernen behutsam durchs Gelände.
LOCATION:Britzer Garten\, Britzer Garten\, Deutschland
X-APPLE-STRUCTURED-LOCATION;VALUE=URI;X-ADDRESS=Britzer Garten\, Deutschlan
 d;X-APPLE-RADIUS=100;X-TITLE=Britzer Garten:geo:0,0
END:VEVENT
BEGIN:VTIMEZONE
TZID:Europe/Berlin
X-LIC-LOCATION:Europe/Berlin
BEGIN:DAYLIGHT
DTSTART:20260329T030000
TZOFFSETFROM:+0100
TZOFFSETTO:+0200
TZNAME:CEST
END:DAYLIGHT
END:VTIMEZONE
END:VCALENDAR