BEGIN:VCALENDAR
VERSION:2.0
PRODID:-//wp-events-plugin.com//7.2.3.1//EN
TZID:Europe/Berlin
X-WR-TIMEZONE:Europe/Berlin
BEGIN:VEVENT
UID:9715@freilandlabor-britz.de
DTSTART;TZID=Europe/Berlin:20260509T150000
DTEND;TZID=Europe/Berlin:20260509T163000
DTSTAMP:20260415T100038Z
URL:https://www.freilandlabor-britz.de/aktuelles/programm/kraeutersalz-her
 stellen-2/
SUMMARY:Kräutersalz herstellen
DESCRIPTION:Kräuter-Spaziergang im Urbanen Waldgarten Britz: Anne-Charlott
 e Viriot zeigt Familien (mit Kindern ab 4 Jaren) die Heilkraft der Natur. 
 Gemeinsam mörsern wir frisches Kräutersalz zum Mitnehmen. Ein Angebot de
 r VHS-Neukölln.\n\nhttps://waldgarten-britz.de/home/aktuelles/?r34icsym=2
 02605
LOCATION:Waldgarten\, Waldgarten\, Deutschland
X-APPLE-STRUCTURED-LOCATION;VALUE=URI;X-ADDRESS=Waldgarten\, Deutschland;X-
 APPLE-RADIUS=100;X-TITLE=Waldgarten:geo:0,0
END:VEVENT
BEGIN:VTIMEZONE
TZID:Europe/Berlin
X-LIC-LOCATION:Europe/Berlin
BEGIN:DAYLIGHT
DTSTART:20260329T030000
TZOFFSETFROM:+0100
TZOFFSETTO:+0200
TZNAME:CEST
END:DAYLIGHT
END:VTIMEZONE
END:VCALENDARBEGIN:VCALENDAR
VERSION:2.0
PRODID:-//wp-events-plugin.com//7.2.3.1//EN
TZID:Europe/Berlin
X-WR-TIMEZONE:Europe/Berlin
BEGIN:VEVENT
UID:9715@freilandlabor-britz.de
DTSTART;TZID=Europe/Berlin:20260509T150000
DTEND;TZID=Europe/Berlin:20260509T163000
DTSTAMP:20260415T100038Z
URL:https://www.freilandlabor-britz.de/aktuelles/programm/kraeutersalz-her
 stellen-2/
SUMMARY:Kräutersalz herstellen
DESCRIPTION:Kräuter-Spaziergang im Urbanen Waldgarten Britz: Anne-Charlott
 e Viriot zeigt Familien (mit Kindern ab 4 Jaren) die Heilkraft der Natur. 
 Gemeinsam mörsern wir frisches Kräutersalz zum Mitnehmen. Ein Angebot de
 r VHS-Neukölln.\n\nhttps://waldgarten-britz.de/home/aktuelles/?r34icsym=2
 02605
LOCATION:Waldgarten\, Waldgarten\, Deutschland
X-APPLE-STRUCTURED-LOCATION;VALUE=URI;X-ADDRESS=Waldgarten\, Deutschland;X-
 APPLE-RADIUS=100;X-TITLE=Waldgarten:geo:0,0
END:VEVENT
BEGIN:VTIMEZONE
TZID:Europe/Berlin
X-LIC-LOCATION:Europe/Berlin
BEGIN:DAYLIGHT
DTSTART:20260329T030000
TZOFFSETFROM:+0100
TZOFFSETTO:+0200
TZNAME:CEST
END:DAYLIGHT
END:VTIMEZONE
END:VCALENDAR