BEGIN:VCALENDAR
VERSION:2.0
PRODID:-//wp-events-plugin.com//7.2.3.1//EN
TZID:Europe/Berlin
X-WR-TIMEZONE:Europe/Berlin
BEGIN:VEVENT
UID:9699@freilandlabor-britz.de
DTSTART;TZID=Europe/Berlin:20260503T090000
DTEND;TZID=Europe/Berlin:20260503T103000
DTSTAMP:20260415T085103Z
URL:https://www.freilandlabor-britz.de/aktuelles/programm/lebhaftes-vogell
 eben-im-fruehjahr/
SUMMARY:Lebhaftes Vogelleben im Frühjahr
DESCRIPTION:Fast alle Vogelarten sind nun aus ihren Winterquartieren zurüc
 k und haben mit der Balz und dem Nestbau begonnen. Gemeinsam mit Bernd Ste
 inbrecher wollen wir Grasmücken\, Rohrsänger und viele weitere gefiedert
 e Rückkehrer dabei beobachten.
LOCATION:Britzer Garten\, Britzer Garten\, Deutschland
X-APPLE-STRUCTURED-LOCATION;VALUE=URI;X-ADDRESS=Britzer Garten\, Deutschlan
 d;X-APPLE-RADIUS=100;X-TITLE=Britzer Garten:geo:0,0
END:VEVENT
BEGIN:VTIMEZONE
TZID:Europe/Berlin
X-LIC-LOCATION:Europe/Berlin
BEGIN:DAYLIGHT
DTSTART:20260329T030000
TZOFFSETFROM:+0100
TZOFFSETTO:+0200
TZNAME:CEST
END:DAYLIGHT
END:VTIMEZONE
END:VCALENDARBEGIN:VCALENDAR
VERSION:2.0
PRODID:-//wp-events-plugin.com//7.2.3.1//EN
TZID:Europe/Berlin
X-WR-TIMEZONE:Europe/Berlin
BEGIN:VEVENT
UID:9699@freilandlabor-britz.de
DTSTART;TZID=Europe/Berlin:20260503T090000
DTEND;TZID=Europe/Berlin:20260503T103000
DTSTAMP:20260415T085103Z
URL:https://www.freilandlabor-britz.de/aktuelles/programm/lebhaftes-vogell
 eben-im-fruehjahr/
SUMMARY:Lebhaftes Vogelleben im Frühjahr
DESCRIPTION:Fast alle Vogelarten sind nun aus ihren Winterquartieren zurüc
 k und haben mit der Balz und dem Nestbau begonnen. Gemeinsam mit Bernd Ste
 inbrecher wollen wir Grasmücken\, Rohrsänger und viele weitere gefiedert
 e Rückkehrer dabei beobachten.
LOCATION:Britzer Garten\, Britzer Garten\, Deutschland
X-APPLE-STRUCTURED-LOCATION;VALUE=URI;X-ADDRESS=Britzer Garten\, Deutschlan
 d;X-APPLE-RADIUS=100;X-TITLE=Britzer Garten:geo:0,0
END:VEVENT
BEGIN:VTIMEZONE
TZID:Europe/Berlin
X-LIC-LOCATION:Europe/Berlin
BEGIN:DAYLIGHT
DTSTART:20260329T030000
TZOFFSETFROM:+0100
TZOFFSETTO:+0200
TZNAME:CEST
END:DAYLIGHT
END:VTIMEZONE
END:VCALENDAR