BEGIN:VCALENDAR
VERSION:2.0
PRODID:-//wp-events-plugin.com//7.2.3.1//EN
TZID:Europe/Berlin
X-WR-TIMEZONE:Europe/Berlin
BEGIN:VEVENT
UID:9626@freilandlabor-britz.de
DTSTART;TZID=Europe/Berlin:20260110T100000
DTEND;TZID=Europe/Berlin:20260110T120000
DTSTAMP:20251027T154100Z
URL:https://www.freilandlabor-britz.de/aktuelles/programm/mitmachen-bei-de
 r-zaehlung-der-wintervoegel/
SUMMARY:Mitmachen bei der Zählung der Wintervögel
DESCRIPTION:Nehmen Sie an der “Stunde der Wintervögelˮ teil! Inga Bött
 ner gibt eine Einführung in die Zählungsergebnisse. Dann wird ein Platz 
 zum Bestimmen und Zählen der Arten gesucht. Eine Veranstaltung der VHS Te
 mpelhof-Schöneberg.
LOCATION:Britzer Garten\, Britzer Garten\, Deutschland
X-APPLE-STRUCTURED-LOCATION;VALUE=URI;X-ADDRESS=Britzer Garten\, Deutschlan
 d;X-APPLE-RADIUS=100;X-TITLE=Britzer Garten:geo:0,0
END:VEVENT
BEGIN:VTIMEZONE
TZID:Europe/Berlin
X-LIC-LOCATION:Europe/Berlin
BEGIN:STANDARD
DTSTART:20251026T020000
TZOFFSETFROM:+0200
TZOFFSETTO:+0100
TZNAME:CET
END:STANDARD
END:VTIMEZONE
END:VCALENDARBEGIN:VCALENDAR
VERSION:2.0
PRODID:-//wp-events-plugin.com//7.2.3.1//EN
TZID:Europe/Berlin
X-WR-TIMEZONE:Europe/Berlin
BEGIN:VEVENT
UID:9626@freilandlabor-britz.de
DTSTART;TZID=Europe/Berlin:20260110T100000
DTEND;TZID=Europe/Berlin:20260110T120000
DTSTAMP:20251027T154100Z
URL:https://www.freilandlabor-britz.de/aktuelles/programm/mitmachen-bei-de
 r-zaehlung-der-wintervoegel/
SUMMARY:Mitmachen bei der Zählung der Wintervögel
DESCRIPTION:Nehmen Sie an der “Stunde der Wintervögelˮ teil! Inga Bött
 ner gibt eine Einführung in die Zählungsergebnisse. Dann wird ein Platz 
 zum Bestimmen und Zählen der Arten gesucht. Eine Veranstaltung der VHS Te
 mpelhof-Schöneberg.
LOCATION:Britzer Garten\, Britzer Garten\, Deutschland
X-APPLE-STRUCTURED-LOCATION;VALUE=URI;X-ADDRESS=Britzer Garten\, Deutschlan
 d;X-APPLE-RADIUS=100;X-TITLE=Britzer Garten:geo:0,0
END:VEVENT
BEGIN:VTIMEZONE
TZID:Europe/Berlin
X-LIC-LOCATION:Europe/Berlin
BEGIN:STANDARD
DTSTART:20251026T020000
TZOFFSETFROM:+0200
TZOFFSETTO:+0100
TZNAME:CET
END:STANDARD
END:VTIMEZONE
END:VCALENDAR