BEGIN:VCALENDAR
VERSION:2.0
PRODID:-//wp-events-plugin.com//7.2.3.1//EN
TZID:Europe/Berlin
X-WR-TIMEZONE:Europe/Berlin
BEGIN:VEVENT
UID:9701@freilandlabor-britz.de
DTSTART;TZID=Europe/Berlin:20260508T203000
DTEND;TZID=Europe/Berlin:20260508T223000
DTSTAMP:20260415T085518Z
URL:https://www.freilandlabor-britz.de/aktuelles/programm/nachts-im-britze
 r-garten-4/
SUMMARY:Nachts im Britzer Garten
DESCRIPTION:Mit Taschenlampen und Bat-Detektoren begibt sich Dirk Kuring au
 f eine spannende Tour für Familien (Kinder ab 6 Jahren)\, um nachtaktive 
 Tiere wie Fledermäuse zu entdecken. Taschenlampen bitte nicht vergessen.
LOCATION:Britzer Garten\, Britzer Garten\, Deutschland
X-APPLE-STRUCTURED-LOCATION;VALUE=URI;X-ADDRESS=Britzer Garten\, Deutschlan
 d;X-APPLE-RADIUS=100;X-TITLE=Britzer Garten:geo:0,0
END:VEVENT
BEGIN:VTIMEZONE
TZID:Europe/Berlin
X-LIC-LOCATION:Europe/Berlin
BEGIN:DAYLIGHT
DTSTART:20260329T030000
TZOFFSETFROM:+0100
TZOFFSETTO:+0200
TZNAME:CEST
END:DAYLIGHT
END:VTIMEZONE
END:VCALENDARBEGIN:VCALENDAR
VERSION:2.0
PRODID:-//wp-events-plugin.com//7.2.3.1//EN
TZID:Europe/Berlin
X-WR-TIMEZONE:Europe/Berlin
BEGIN:VEVENT
UID:9701@freilandlabor-britz.de
DTSTART;TZID=Europe/Berlin:20260508T203000
DTEND;TZID=Europe/Berlin:20260508T223000
DTSTAMP:20260415T085518Z
URL:https://www.freilandlabor-britz.de/aktuelles/programm/nachts-im-britze
 r-garten-4/
SUMMARY:Nachts im Britzer Garten
DESCRIPTION:Mit Taschenlampen und Bat-Detektoren begibt sich Dirk Kuring au
 f eine spannende Tour für Familien (Kinder ab 6 Jahren)\, um nachtaktive 
 Tiere wie Fledermäuse zu entdecken. Taschenlampen bitte nicht vergessen.
LOCATION:Britzer Garten\, Britzer Garten\, Deutschland
X-APPLE-STRUCTURED-LOCATION;VALUE=URI;X-ADDRESS=Britzer Garten\, Deutschlan
 d;X-APPLE-RADIUS=100;X-TITLE=Britzer Garten:geo:0,0
END:VEVENT
BEGIN:VTIMEZONE
TZID:Europe/Berlin
X-LIC-LOCATION:Europe/Berlin
BEGIN:DAYLIGHT
DTSTART:20260329T030000
TZOFFSETFROM:+0100
TZOFFSETTO:+0200
TZNAME:CEST
END:DAYLIGHT
END:VTIMEZONE
END:VCALENDAR