BEGIN:VCALENDAR
VERSION:2.0
PRODID:-//wp-events-plugin.com//7.2.3.1//EN
TZID:Europe/Berlin
X-WR-TIMEZONE:Europe/Berlin
BEGIN:VEVENT
UID:9702@freilandlabor-britz.de
DTSTART;TZID=Europe/Berlin:20260509T100000
DTEND;TZID=Europe/Berlin:20260509T160000
DTSTAMP:20260415T085829Z
URL:https://www.freilandlabor-britz.de/aktuelles/programm/natur-nur-fuer-k
 inder-wilde-kraeutersuche/
SUMMARY:Natur nur für Kinder: Wilde Kräutersuche
DESCRIPTION:Schmecken Gänseblümchen anders als Klee? Wie kann ich Brennne
 sseln pflücken ohne mich zu verbrennen und kann ich daraus wirklich Chips
  machen? Und warum ist der Spitzwegerich eine so tolle Notfallmedizin? Mit
  Kindern zwischen 7 und 12 Jahren suchen und sammeln wir Wildkräuter und 
 bereiten daraus auch ein leckeres Picknick.
LOCATION:Britzer Garten\, Britzer Garten\, Deutschland
X-APPLE-STRUCTURED-LOCATION;VALUE=URI;X-ADDRESS=Britzer Garten\, Deutschlan
 d;X-APPLE-RADIUS=100;X-TITLE=Britzer Garten:geo:0,0
END:VEVENT
BEGIN:VTIMEZONE
TZID:Europe/Berlin
X-LIC-LOCATION:Europe/Berlin
BEGIN:DAYLIGHT
DTSTART:20260329T030000
TZOFFSETFROM:+0100
TZOFFSETTO:+0200
TZNAME:CEST
END:DAYLIGHT
END:VTIMEZONE
END:VCALENDARBEGIN:VCALENDAR
VERSION:2.0
PRODID:-//wp-events-plugin.com//7.2.3.1//EN
TZID:Europe/Berlin
X-WR-TIMEZONE:Europe/Berlin
BEGIN:VEVENT
UID:9702@freilandlabor-britz.de
DTSTART;TZID=Europe/Berlin:20260509T100000
DTEND;TZID=Europe/Berlin:20260509T160000
DTSTAMP:20260415T085829Z
URL:https://www.freilandlabor-britz.de/aktuelles/programm/natur-nur-fuer-k
 inder-wilde-kraeutersuche/
SUMMARY:Natur nur für Kinder: Wilde Kräutersuche
DESCRIPTION:Schmecken Gänseblümchen anders als Klee? Wie kann ich Brennne
 sseln pflücken ohne mich zu verbrennen und kann ich daraus wirklich Chips
  machen? Und warum ist der Spitzwegerich eine so tolle Notfallmedizin? Mit
  Kindern zwischen 7 und 12 Jahren suchen und sammeln wir Wildkräuter und 
 bereiten daraus auch ein leckeres Picknick.
LOCATION:Britzer Garten\, Britzer Garten\, Deutschland
X-APPLE-STRUCTURED-LOCATION;VALUE=URI;X-ADDRESS=Britzer Garten\, Deutschlan
 d;X-APPLE-RADIUS=100;X-TITLE=Britzer Garten:geo:0,0
END:VEVENT
BEGIN:VTIMEZONE
TZID:Europe/Berlin
X-LIC-LOCATION:Europe/Berlin
BEGIN:DAYLIGHT
DTSTART:20260329T030000
TZOFFSETFROM:+0100
TZOFFSETTO:+0200
TZNAME:CEST
END:DAYLIGHT
END:VTIMEZONE
END:VCALENDAR