BEGIN:VCALENDAR
VERSION:2.0
PRODID:-//wp-events-plugin.com//7.2.3.1//EN
TZID:Europe/Berlin
X-WR-TIMEZONE:Europe/Berlin
BEGIN:VEVENT
UID:9724@freilandlabor-britz.de
DTSTART;TZID=Europe/Berlin:20260531T140000
DTEND;TZID=Europe/Berlin:20260531T160000
DTSTAMP:20260423T132439Z
URL:https://www.freilandlabor-britz.de/aktuelles/programm/naturdetektive-e
 ntdecken-staunen-ausprobieren/
SUMMARY:Naturdetektive - Entdecken\, Staunen\, Ausprobieren
DESCRIPTION:Im Rahmen des Langen Tages der Stadtnatur\n\nEntdecken\, Staune
 n\, Ausprobieren für Familien mit Kindern ab 3 Jahren.\n\nLeitung: Miriam
  Rasser\n\n&nbsp\;\n\n&nbsp\;\n\n&nbsp\;
LOCATION:Tempelhofer Feld\, Tempelhofer Feld\, Deutschland
X-APPLE-STRUCTURED-LOCATION;VALUE=URI;X-ADDRESS=Tempelhofer Feld\, Deutschl
 and;X-APPLE-RADIUS=100;X-TITLE=Tempelhofer Feld:geo:0,0
END:VEVENT
BEGIN:VTIMEZONE
TZID:Europe/Berlin
X-LIC-LOCATION:Europe/Berlin
BEGIN:DAYLIGHT
DTSTART:20260329T030000
TZOFFSETFROM:+0100
TZOFFSETTO:+0200
TZNAME:CEST
END:DAYLIGHT
END:VTIMEZONE
END:VCALENDARBEGIN:VCALENDAR
VERSION:2.0
PRODID:-//wp-events-plugin.com//7.2.3.1//EN
TZID:Europe/Berlin
X-WR-TIMEZONE:Europe/Berlin
BEGIN:VEVENT
UID:9724@freilandlabor-britz.de
DTSTART;TZID=Europe/Berlin:20260531T140000
DTEND;TZID=Europe/Berlin:20260531T160000
DTSTAMP:20260423T132439Z
URL:https://www.freilandlabor-britz.de/aktuelles/programm/naturdetektive-e
 ntdecken-staunen-ausprobieren/
SUMMARY:Naturdetektive - Entdecken\, Staunen\, Ausprobieren
DESCRIPTION:Im Rahmen des Langen Tages der Stadtnatur\n\nEntdecken\, Staune
 n\, Ausprobieren für Familien mit Kindern ab 3 Jahren.\n\nLeitung: Miriam
  Rasser\n\n&nbsp\;\n\n&nbsp\;\n\n&nbsp\;
LOCATION:Tempelhofer Feld\, Tempelhofer Feld\, Deutschland
X-APPLE-STRUCTURED-LOCATION;VALUE=URI;X-ADDRESS=Tempelhofer Feld\, Deutschl
 and;X-APPLE-RADIUS=100;X-TITLE=Tempelhofer Feld:geo:0,0
END:VEVENT
BEGIN:VTIMEZONE
TZID:Europe/Berlin
X-LIC-LOCATION:Europe/Berlin
BEGIN:DAYLIGHT
DTSTART:20260329T030000
TZOFFSETFROM:+0100
TZOFFSETTO:+0200
TZNAME:CEST
END:DAYLIGHT
END:VTIMEZONE
END:VCALENDAR