BEGIN:VCALENDAR
VERSION:2.0
PRODID:-//wp-events-plugin.com//7.2.3.1//EN
TZID:Europe/Berlin
X-WR-TIMEZONE:Europe/Berlin
BEGIN:VEVENT
UID:9711@freilandlabor-britz.de
DTSTART;TZID=Europe/Berlin:20260503T100000
DTEND;TZID=Europe/Berlin:20260531T120000
DTSTAMP:20260415T094849Z
URL:https://www.freilandlabor-britz.de/aktuelles/programm/offenes-gaertner
 n-6/
SUMMARY:Offenes Gärtnern
DESCRIPTION:Offenes Gärtnern – Welche Pflanzen wie miteinander im Waldga
 rten harmonieren\, erfährt man am besten beim Gärtnern unter Anleitung v
 on Sabine.\nSonntags im Mai:\n\n03.05.2026\n10.05.2026\n17.05.2026\n24.05.
 2026\n\n31.05.2026\n\nhttps://waldgarten-britz.de/home/aktuelles/?r34icsym
 =202605
LOCATION:Waldgarten\, Waldgarten\, Deutschland
X-APPLE-STRUCTURED-LOCATION;VALUE=URI;X-ADDRESS=Waldgarten\, Deutschland;X-
 APPLE-RADIUS=100;X-TITLE=Waldgarten:geo:0,0
END:VEVENT
BEGIN:VTIMEZONE
TZID:Europe/Berlin
X-LIC-LOCATION:Europe/Berlin
BEGIN:DAYLIGHT
DTSTART:20260329T030000
TZOFFSETFROM:+0100
TZOFFSETTO:+0200
TZNAME:CEST
END:DAYLIGHT
END:VTIMEZONE
END:VCALENDARBEGIN:VCALENDAR
VERSION:2.0
PRODID:-//wp-events-plugin.com//7.2.3.1//EN
TZID:Europe/Berlin
X-WR-TIMEZONE:Europe/Berlin
BEGIN:VEVENT
UID:9711@freilandlabor-britz.de
DTSTART;TZID=Europe/Berlin:20260503T100000
DTEND;TZID=Europe/Berlin:20260531T120000
DTSTAMP:20260415T094849Z
URL:https://www.freilandlabor-britz.de/aktuelles/programm/offenes-gaertner
 n-6/
SUMMARY:Offenes Gärtnern
DESCRIPTION:Offenes Gärtnern – Welche Pflanzen wie miteinander im Waldga
 rten harmonieren\, erfährt man am besten beim Gärtnern unter Anleitung v
 on Sabine.\nSonntags im Mai:\n\n03.05.2026\n10.05.2026\n17.05.2026\n24.05.
 2026\n\n31.05.2026\n\nhttps://waldgarten-britz.de/home/aktuelles/?r34icsym
 =202605
LOCATION:Waldgarten\, Waldgarten\, Deutschland
X-APPLE-STRUCTURED-LOCATION;VALUE=URI;X-ADDRESS=Waldgarten\, Deutschland;X-
 APPLE-RADIUS=100;X-TITLE=Waldgarten:geo:0,0
END:VEVENT
BEGIN:VTIMEZONE
TZID:Europe/Berlin
X-LIC-LOCATION:Europe/Berlin
BEGIN:DAYLIGHT
DTSTART:20260329T030000
TZOFFSETFROM:+0100
TZOFFSETTO:+0200
TZNAME:CEST
END:DAYLIGHT
END:VTIMEZONE
END:VCALENDAR