BEGIN:VCALENDAR
VERSION:2.0
PRODID:-//wp-events-plugin.com//7.2.3.1//EN
TZID:Europe/Berlin
X-WR-TIMEZONE:Europe/Berlin
BEGIN:VEVENT
UID:9725@freilandlabor-britz.de
DTSTART;TZID=Europe/Berlin:20260531T150000
DTEND;TZID=Europe/Berlin:20260531T163000
DTSTAMP:20260423T132643Z
URL:https://www.freilandlabor-britz.de/aktuelles/programm/pflanzenerlebnis
 -auf-dem-tempelhofer-feld-von-ueberlebenskuenstlern-essbaren-wildkraeutern
 -und-symbolpflanzen/
SUMMARY:Pflanzenerlebnis auf dem Tempelhofer Feld: Von Überlebenskünstler
 n\, essbaren Wildkräutern und Symbolpflanzen
DESCRIPTION:Im Rahmen des Langen Tages der Stadtnatur\n\nPflanzen erzählen
  Geschichten. Lassen Sie sich überraschen von den Tricks\, die Pflanzen e
 ntwickelt haben\, um auf warmen und trockenen Standorten wie dem Tempelhof
 er Feld zu überleben. Lernen Sie Pflanzen kennen\, die eine symbolische B
 edeutung haben und in der Pflanzenheilkunde genutzt wurden oder heute noch
  werden. Probieren Sie essbare Wildkräuter wie den Sauerampfer und den We
 inbergslauch.\n\nLeitung: Ursula Müller\n\n&nbsp\;\n\n&nbsp\;\n\n&nbsp\;
LOCATION:Tempelhofer Feld\, Tempelhofer Feld\, Deutschland
X-APPLE-STRUCTURED-LOCATION;VALUE=URI;X-ADDRESS=Tempelhofer Feld\, Deutschl
 and;X-APPLE-RADIUS=100;X-TITLE=Tempelhofer Feld:geo:0,0
END:VEVENT
BEGIN:VTIMEZONE
TZID:Europe/Berlin
X-LIC-LOCATION:Europe/Berlin
BEGIN:DAYLIGHT
DTSTART:20260329T030000
TZOFFSETFROM:+0100
TZOFFSETTO:+0200
TZNAME:CEST
END:DAYLIGHT
END:VTIMEZONE
END:VCALENDARBEGIN:VCALENDAR
VERSION:2.0
PRODID:-//wp-events-plugin.com//7.2.3.1//EN
TZID:Europe/Berlin
X-WR-TIMEZONE:Europe/Berlin
BEGIN:VEVENT
UID:9725@freilandlabor-britz.de
DTSTART;TZID=Europe/Berlin:20260531T150000
DTEND;TZID=Europe/Berlin:20260531T163000
DTSTAMP:20260423T132643Z
URL:https://www.freilandlabor-britz.de/aktuelles/programm/pflanzenerlebnis
 -auf-dem-tempelhofer-feld-von-ueberlebenskuenstlern-essbaren-wildkraeutern
 -und-symbolpflanzen/
SUMMARY:Pflanzenerlebnis auf dem Tempelhofer Feld: Von Überlebenskünstler
 n\, essbaren Wildkräutern und Symbolpflanzen
DESCRIPTION:Im Rahmen des Langen Tages der Stadtnatur\n\nPflanzen erzählen
  Geschichten. Lassen Sie sich überraschen von den Tricks\, die Pflanzen e
 ntwickelt haben\, um auf warmen und trockenen Standorten wie dem Tempelhof
 er Feld zu überleben. Lernen Sie Pflanzen kennen\, die eine symbolische B
 edeutung haben und in der Pflanzenheilkunde genutzt wurden oder heute noch
  werden. Probieren Sie essbare Wildkräuter wie den Sauerampfer und den We
 inbergslauch.\n\nLeitung: Ursula Müller\n\n&nbsp\;\n\n&nbsp\;\n\n&nbsp\;
LOCATION:Tempelhofer Feld\, Tempelhofer Feld\, Deutschland
X-APPLE-STRUCTURED-LOCATION;VALUE=URI;X-ADDRESS=Tempelhofer Feld\, Deutschl
 and;X-APPLE-RADIUS=100;X-TITLE=Tempelhofer Feld:geo:0,0
END:VEVENT
BEGIN:VTIMEZONE
TZID:Europe/Berlin
X-LIC-LOCATION:Europe/Berlin
BEGIN:DAYLIGHT
DTSTART:20260329T030000
TZOFFSETFROM:+0100
TZOFFSETTO:+0200
TZNAME:CEST
END:DAYLIGHT
END:VTIMEZONE
END:VCALENDAR