BEGIN:VCALENDAR
VERSION:2.0
PRODID:-//wp-events-plugin.com//7.2.3.1//EN
TZID:Europe/Berlin
X-WR-TIMEZONE:Europe/Berlin
BEGIN:VEVENT
UID:9722@freilandlabor-britz.de
DTSTART;TZID=Europe/Berlin:20260531T100000
DTEND;TZID=Europe/Berlin:20260531T113000
DTSTAMP:20260423T131938Z
URL:https://www.freilandlabor-britz.de/aktuelles/programm/turmfalke-feldle
 rche-und-neuntoeter-vogelkundliche-tour-ueber-das-tempelhofer-feld/
SUMMARY:Turmfalke\, Feldlerche und Neuntöter - Vogelkundliche Tour über d
 as Tempelhofer Feld
DESCRIPTION:Im Rahmen des Langen Tages der Stadtnatur\n\nDie vogelkundliche
  Tour führt uns über die Wiesen des Tempelhofer Feldes\, wo wir den Sing
 flug der Feldlerche und den Jagdflug des Turmfalken beobachten wollen. Auf
  dem gebüschreichen Gelände des "Alten Hafens" hoffen wir auf Neuntöter
 \, Grauammer und Dorngrasmücke. Mit dem Fernglas sind wir in verschiedene
 n Lebensräumen des Parks unterwegs und beobachten die Vogelwelt. Wenn Mö
 glich\, Ferngals mitbringen!\n\nLeitung: Miriam Rasser\n\n&nbsp\;\n\n&nbsp
 \;\n\n&nbsp\;
LOCATION:Tempelhofer Feld\, Tempelhofer Feld\, Deutschland
X-APPLE-STRUCTURED-LOCATION;VALUE=URI;X-ADDRESS=Tempelhofer Feld\, Deutschl
 and;X-APPLE-RADIUS=100;X-TITLE=Tempelhofer Feld:geo:0,0
END:VEVENT
BEGIN:VTIMEZONE
TZID:Europe/Berlin
X-LIC-LOCATION:Europe/Berlin
BEGIN:DAYLIGHT
DTSTART:20260329T030000
TZOFFSETFROM:+0100
TZOFFSETTO:+0200
TZNAME:CEST
END:DAYLIGHT
END:VTIMEZONE
END:VCALENDARBEGIN:VCALENDAR
VERSION:2.0
PRODID:-//wp-events-plugin.com//7.2.3.1//EN
TZID:Europe/Berlin
X-WR-TIMEZONE:Europe/Berlin
BEGIN:VEVENT
UID:9722@freilandlabor-britz.de
DTSTART;TZID=Europe/Berlin:20260531T100000
DTEND;TZID=Europe/Berlin:20260531T113000
DTSTAMP:20260423T131938Z
URL:https://www.freilandlabor-britz.de/aktuelles/programm/turmfalke-feldle
 rche-und-neuntoeter-vogelkundliche-tour-ueber-das-tempelhofer-feld/
SUMMARY:Turmfalke\, Feldlerche und Neuntöter - Vogelkundliche Tour über d
 as Tempelhofer Feld
DESCRIPTION:Im Rahmen des Langen Tages der Stadtnatur\n\nDie vogelkundliche
  Tour führt uns über die Wiesen des Tempelhofer Feldes\, wo wir den Sing
 flug der Feldlerche und den Jagdflug des Turmfalken beobachten wollen. Auf
  dem gebüschreichen Gelände des "Alten Hafens" hoffen wir auf Neuntöter
 \, Grauammer und Dorngrasmücke. Mit dem Fernglas sind wir in verschiedene
 n Lebensräumen des Parks unterwegs und beobachten die Vogelwelt. Wenn Mö
 glich\, Ferngals mitbringen!\n\nLeitung: Miriam Rasser\n\n&nbsp\;\n\n&nbsp
 \;\n\n&nbsp\;
LOCATION:Tempelhofer Feld\, Tempelhofer Feld\, Deutschland
X-APPLE-STRUCTURED-LOCATION;VALUE=URI;X-ADDRESS=Tempelhofer Feld\, Deutschl
 and;X-APPLE-RADIUS=100;X-TITLE=Tempelhofer Feld:geo:0,0
END:VEVENT
BEGIN:VTIMEZONE
TZID:Europe/Berlin
X-LIC-LOCATION:Europe/Berlin
BEGIN:DAYLIGHT
DTSTART:20260329T030000
TZOFFSETFROM:+0100
TZOFFSETTO:+0200
TZNAME:CEST
END:DAYLIGHT
END:VTIMEZONE
END:VCALENDAR