BEGIN:VCALENDAR
VERSION:2.0
PRODID:-//wp-events-plugin.com//7.2.3.1//EN
TZID:Europe/Berlin
X-WR-TIMEZONE:Europe/Berlin
BEGIN:VEVENT
UID:9721@freilandlabor-britz.de
DTSTART;TZID=Europe/Berlin:20260606T080000
DTEND;TZID=Europe/Berlin:20260606T100000
DTSTAMP:20260416T123113Z
URL:https://www.freilandlabor-britz.de/aktuelles/programm/voegel-auf-dem-t
 empelhofer-feld/
SUMMARY:Vögel auf dem Tempelhofer Feld
DESCRIPTION:Begeben Sie sich mit Benedikt Jackowski auf die Suche nach den 
 gefiederten Bewohnern des Feldes. Wir werden das fleißige Brutgeschäft b
 eobachten und lernen außerdem\, die Vögel an ihren Stimmen zu unterschei
 den. Bitte Fernglas mitbringen.
LOCATION:Tempelhofer Feld\, Tempelhofer Feld\, Deutschland
X-APPLE-STRUCTURED-LOCATION;VALUE=URI;X-ADDRESS=Tempelhofer Feld\, Deutschl
 and;X-APPLE-RADIUS=100;X-TITLE=Tempelhofer Feld:geo:0,0
END:VEVENT
BEGIN:VTIMEZONE
TZID:Europe/Berlin
X-LIC-LOCATION:Europe/Berlin
BEGIN:DAYLIGHT
DTSTART:20260329T030000
TZOFFSETFROM:+0100
TZOFFSETTO:+0200
TZNAME:CEST
END:DAYLIGHT
END:VTIMEZONE
END:VCALENDARBEGIN:VCALENDAR
VERSION:2.0
PRODID:-//wp-events-plugin.com//7.2.3.1//EN
TZID:Europe/Berlin
X-WR-TIMEZONE:Europe/Berlin
BEGIN:VEVENT
UID:9721@freilandlabor-britz.de
DTSTART;TZID=Europe/Berlin:20260606T080000
DTEND;TZID=Europe/Berlin:20260606T100000
DTSTAMP:20260416T123113Z
URL:https://www.freilandlabor-britz.de/aktuelles/programm/voegel-auf-dem-t
 empelhofer-feld/
SUMMARY:Vögel auf dem Tempelhofer Feld
DESCRIPTION:Begeben Sie sich mit Benedikt Jackowski auf die Suche nach den 
 gefiederten Bewohnern des Feldes. Wir werden das fleißige Brutgeschäft b
 eobachten und lernen außerdem\, die Vögel an ihren Stimmen zu unterschei
 den. Bitte Fernglas mitbringen.
LOCATION:Tempelhofer Feld\, Tempelhofer Feld\, Deutschland
X-APPLE-STRUCTURED-LOCATION;VALUE=URI;X-ADDRESS=Tempelhofer Feld\, Deutschl
 and;X-APPLE-RADIUS=100;X-TITLE=Tempelhofer Feld:geo:0,0
END:VEVENT
BEGIN:VTIMEZONE
TZID:Europe/Berlin
X-LIC-LOCATION:Europe/Berlin
BEGIN:DAYLIGHT
DTSTART:20260329T030000
TZOFFSETFROM:+0100
TZOFFSETTO:+0200
TZNAME:CEST
END:DAYLIGHT
END:VTIMEZONE
END:VCALENDAR