BEGIN:VCALENDAR
VERSION:2.0
PRODID:-//wp-events-plugin.com//7.2.3.1//EN
TZID:Europe/Berlin
X-WR-TIMEZONE:Europe/Berlin
BEGIN:VEVENT
UID:9714@freilandlabor-britz.de
DTSTART;TZID=Europe/Berlin:20260509T080000
DTEND;TZID=Europe/Berlin:20260509T100000
DTSTAMP:20260415T094335Z
URL:https://www.freilandlabor-britz.de/aktuelles/programm/voegel-in-unsere
 n-gaerten-gaerten-fuer-voegel/
SUMMARY:Vögel in unseren Gärten - Gärten für Vögel
DESCRIPTION:Welche Vögel gibt es in unseren Gärten? Was brauchen sie? Und
  wie können wir sie durch unsere Gartengestaltung unterstützen? Eine vog
 elkundliche Führung mit Benedickt Jackowski. Wenn vorhanden\, bitte Ferng
 lass mitbringen!
LOCATION:Waldgarten\, Waldgarten\, Deutschland
X-APPLE-STRUCTURED-LOCATION;VALUE=URI;X-ADDRESS=Waldgarten\, Deutschland;X-
 APPLE-RADIUS=100;X-TITLE=Waldgarten:geo:0,0
END:VEVENT
BEGIN:VTIMEZONE
TZID:Europe/Berlin
X-LIC-LOCATION:Europe/Berlin
BEGIN:DAYLIGHT
DTSTART:20260329T030000
TZOFFSETFROM:+0100
TZOFFSETTO:+0200
TZNAME:CEST
END:DAYLIGHT
END:VTIMEZONE
END:VCALENDARBEGIN:VCALENDAR
VERSION:2.0
PRODID:-//wp-events-plugin.com//7.2.3.1//EN
TZID:Europe/Berlin
X-WR-TIMEZONE:Europe/Berlin
BEGIN:VEVENT
UID:9714@freilandlabor-britz.de
DTSTART;TZID=Europe/Berlin:20260509T080000
DTEND;TZID=Europe/Berlin:20260509T100000
DTSTAMP:20260415T094335Z
URL:https://www.freilandlabor-britz.de/aktuelles/programm/voegel-in-unsere
 n-gaerten-gaerten-fuer-voegel/
SUMMARY:Vögel in unseren Gärten - Gärten für Vögel
DESCRIPTION:Welche Vögel gibt es in unseren Gärten? Was brauchen sie? Und
  wie können wir sie durch unsere Gartengestaltung unterstützen? Eine vog
 elkundliche Führung mit Benedickt Jackowski. Wenn vorhanden\, bitte Ferng
 lass mitbringen!
LOCATION:Waldgarten\, Waldgarten\, Deutschland
X-APPLE-STRUCTURED-LOCATION;VALUE=URI;X-ADDRESS=Waldgarten\, Deutschland;X-
 APPLE-RADIUS=100;X-TITLE=Waldgarten:geo:0,0
END:VEVENT
BEGIN:VTIMEZONE
TZID:Europe/Berlin
X-LIC-LOCATION:Europe/Berlin
BEGIN:DAYLIGHT
DTSTART:20260329T030000
TZOFFSETFROM:+0100
TZOFFSETTO:+0200
TZNAME:CEST
END:DAYLIGHT
END:VTIMEZONE
END:VCALENDAR