BEGIN:VCALENDAR
VERSION:2.0
PRODID:-//wp-events-plugin.com//7.2.3.1//EN
TZID:Europe/Berlin
X-WR-TIMEZONE:Europe/Berlin
BEGIN:VEVENT
UID:9707@freilandlabor-britz.de
DTSTART;TZID=Europe/Berlin:20260501T090000
DTEND;TZID=Europe/Berlin:20260501T110000
DTSTAMP:20260423T125217Z
URL:https://www.freilandlabor-britz.de/aktuelles/programm/voegel-vom-singe
 n-rufen-und-fliegen/
SUMMARY:Vögel - Vom Singen\, Rufen und Fliegen
DESCRIPTION:Es ist Brutzeit! Alles singt und ruft. Tauchen Sie mit Benedikt
  Jackowski in die Welt der Gesänge und Rufe der heimschen Vögel ein und 
 lernen sie den ein oder anderen Vogel anhand seines Rufes zu bestimmen. We
 nn möglich\, Fernglass mitbringen!
LOCATION:Tempelhofer Feld\, Tempelhofer Feld\, Deutschland
X-APPLE-STRUCTURED-LOCATION;VALUE=URI;X-ADDRESS=Tempelhofer Feld\, Deutschl
 and;X-APPLE-RADIUS=100;X-TITLE=Tempelhofer Feld:geo:0,0
END:VEVENT
BEGIN:VTIMEZONE
TZID:Europe/Berlin
X-LIC-LOCATION:Europe/Berlin
BEGIN:DAYLIGHT
DTSTART:20260329T030000
TZOFFSETFROM:+0100
TZOFFSETTO:+0200
TZNAME:CEST
END:DAYLIGHT
END:VTIMEZONE
END:VCALENDARBEGIN:VCALENDAR
VERSION:2.0
PRODID:-//wp-events-plugin.com//7.2.3.1//EN
TZID:Europe/Berlin
X-WR-TIMEZONE:Europe/Berlin
BEGIN:VEVENT
UID:9707@freilandlabor-britz.de
DTSTART;TZID=Europe/Berlin:20260501T090000
DTEND;TZID=Europe/Berlin:20260501T110000
DTSTAMP:20260423T125217Z
URL:https://www.freilandlabor-britz.de/aktuelles/programm/voegel-vom-singe
 n-rufen-und-fliegen/
SUMMARY:Vögel - Vom Singen\, Rufen und Fliegen
DESCRIPTION:Es ist Brutzeit! Alles singt und ruft. Tauchen Sie mit Benedikt
  Jackowski in die Welt der Gesänge und Rufe der heimschen Vögel ein und 
 lernen sie den ein oder anderen Vogel anhand seines Rufes zu bestimmen. We
 nn möglich\, Fernglass mitbringen!
LOCATION:Tempelhofer Feld\, Tempelhofer Feld\, Deutschland
X-APPLE-STRUCTURED-LOCATION;VALUE=URI;X-ADDRESS=Tempelhofer Feld\, Deutschl
 and;X-APPLE-RADIUS=100;X-TITLE=Tempelhofer Feld:geo:0,0
END:VEVENT
BEGIN:VTIMEZONE
TZID:Europe/Berlin
X-LIC-LOCATION:Europe/Berlin
BEGIN:DAYLIGHT
DTSTART:20260329T030000
TZOFFSETFROM:+0100
TZOFFSETTO:+0200
TZNAME:CEST
END:DAYLIGHT
END:VTIMEZONE
END:VCALENDAR