BEGIN:VCALENDAR
VERSION:2.0
PRODID:-//wp-events-plugin.com//7.2.3.1//EN
TZID:Europe/Berlin
X-WR-TIMEZONE:Europe/Berlin
BEGIN:VEVENT
UID:9622@freilandlabor-britz.de
DTSTART;TZID=Europe/Berlin:20251207T090000
DTEND;TZID=Europe/Berlin:20251207T110000
DTSTAMP:20251027T154109Z
URL:https://www.freilandlabor-britz.de/aktuelles/programm/von-standvoegeln
 -und-federn/
SUMMARY:Von Standvögeln und Federn
DESCRIPTION:Erfahren Sie\, wie heimische Vögel von Stadt und Klima beeinfl
 usst werden. Benedikt Jackowski gibt zudem spannende Einblicke in die Welt
  der Federn. Fernglas bitte mitbringen!
LOCATION:Tempelhofer Feld\, Tempelhofer Feld\, Deutschland
X-APPLE-STRUCTURED-LOCATION;VALUE=URI;X-ADDRESS=Tempelhofer Feld\, Deutschl
 and;X-APPLE-RADIUS=100;X-TITLE=Tempelhofer Feld:geo:0,0
END:VEVENT
BEGIN:VTIMEZONE
TZID:Europe/Berlin
X-LIC-LOCATION:Europe/Berlin
BEGIN:STANDARD
DTSTART:20251026T020000
TZOFFSETFROM:+0200
TZOFFSETTO:+0100
TZNAME:CET
END:STANDARD
END:VTIMEZONE
END:VCALENDARBEGIN:VCALENDAR
VERSION:2.0
PRODID:-//wp-events-plugin.com//7.2.3.1//EN
TZID:Europe/Berlin
X-WR-TIMEZONE:Europe/Berlin
BEGIN:VEVENT
UID:9622@freilandlabor-britz.de
DTSTART;TZID=Europe/Berlin:20251207T090000
DTEND;TZID=Europe/Berlin:20251207T110000
DTSTAMP:20251027T154109Z
URL:https://www.freilandlabor-britz.de/aktuelles/programm/von-standvoegeln
 -und-federn/
SUMMARY:Von Standvögeln und Federn
DESCRIPTION:Erfahren Sie\, wie heimische Vögel von Stadt und Klima beeinfl
 usst werden. Benedikt Jackowski gibt zudem spannende Einblicke in die Welt
  der Federn. Fernglas bitte mitbringen!
LOCATION:Tempelhofer Feld\, Tempelhofer Feld\, Deutschland
X-APPLE-STRUCTURED-LOCATION;VALUE=URI;X-ADDRESS=Tempelhofer Feld\, Deutschl
 and;X-APPLE-RADIUS=100;X-TITLE=Tempelhofer Feld:geo:0,0
END:VEVENT
BEGIN:VTIMEZONE
TZID:Europe/Berlin
X-LIC-LOCATION:Europe/Berlin
BEGIN:STANDARD
DTSTART:20251026T020000
TZOFFSETFROM:+0200
TZOFFSETTO:+0100
TZNAME:CET
END:STANDARD
END:VTIMEZONE
END:VCALENDAR