BEGIN:VCALENDAR
VERSION:2.0
PRODID:-//wp-events-plugin.com//7.2.3.1//EN
TZID:Europe/Berlin
X-WR-TIMEZONE:Europe/Berlin
BEGIN:VEVENT
UID:9713@freilandlabor-britz.de
DTSTART;TZID=Europe/Berlin:20260530T170000
DTEND;TZID=Europe/Berlin:20260530T190000
DTSTAMP:20260415T095115Z
URL:https://www.freilandlabor-britz.de/aktuelles/programm/von-wurzel-bis-w
 ipfel-4/
SUMMARY:Von Wurzel bis Wipfel
DESCRIPTION:Jahreszeitliche Küche aus dem Waldgarten – wie verwende ich 
 die Pflanzen des Waldgartens? Der Waldgarten bietet je nach Jahreszeit unt
 erschiedliche Delikatessen. Ziel ist es\, Vielfalt respektvoll zu nutzen\,
  sowie Geschmack und Nährstoffe zu bewahren.\n\nhttps://waldgarten-britz.
 de/home/aktuelles/?r34icsym=202605
LOCATION:Waldgarten\, Waldgarten\, Deutschland
X-APPLE-STRUCTURED-LOCATION;VALUE=URI;X-ADDRESS=Waldgarten\, Deutschland;X-
 APPLE-RADIUS=100;X-TITLE=Waldgarten:geo:0,0
END:VEVENT
BEGIN:VTIMEZONE
TZID:Europe/Berlin
X-LIC-LOCATION:Europe/Berlin
BEGIN:DAYLIGHT
DTSTART:20260329T030000
TZOFFSETFROM:+0100
TZOFFSETTO:+0200
TZNAME:CEST
END:DAYLIGHT
END:VTIMEZONE
END:VCALENDARBEGIN:VCALENDAR
VERSION:2.0
PRODID:-//wp-events-plugin.com//7.2.3.1//EN
TZID:Europe/Berlin
X-WR-TIMEZONE:Europe/Berlin
BEGIN:VEVENT
UID:9713@freilandlabor-britz.de
DTSTART;TZID=Europe/Berlin:20260530T170000
DTEND;TZID=Europe/Berlin:20260530T190000
DTSTAMP:20260415T095115Z
URL:https://www.freilandlabor-britz.de/aktuelles/programm/von-wurzel-bis-w
 ipfel-4/
SUMMARY:Von Wurzel bis Wipfel
DESCRIPTION:Jahreszeitliche Küche aus dem Waldgarten – wie verwende ich 
 die Pflanzen des Waldgartens? Der Waldgarten bietet je nach Jahreszeit unt
 erschiedliche Delikatessen. Ziel ist es\, Vielfalt respektvoll zu nutzen\,
  sowie Geschmack und Nährstoffe zu bewahren.\n\nhttps://waldgarten-britz.
 de/home/aktuelles/?r34icsym=202605
LOCATION:Waldgarten\, Waldgarten\, Deutschland
X-APPLE-STRUCTURED-LOCATION;VALUE=URI;X-ADDRESS=Waldgarten\, Deutschland;X-
 APPLE-RADIUS=100;X-TITLE=Waldgarten:geo:0,0
END:VEVENT
BEGIN:VTIMEZONE
TZID:Europe/Berlin
X-LIC-LOCATION:Europe/Berlin
BEGIN:DAYLIGHT
DTSTART:20260329T030000
TZOFFSETFROM:+0100
TZOFFSETTO:+0200
TZNAME:CEST
END:DAYLIGHT
END:VTIMEZONE
END:VCALENDAR