BEGIN:VCALENDAR
VERSION:2.0
PRODID:-//wp-events-plugin.com//7.2.3.1//EN
TZID:Europe/Berlin
X-WR-TIMEZONE:Europe/Berlin
BEGIN:VEVENT
UID:9709@freilandlabor-britz.de
DTSTART;TZID=Europe/Berlin:20260523T090000
DTEND;TZID=Europe/Berlin:20260523T110000
DTSTAMP:20260423T125720Z
URL:https://www.freilandlabor-britz.de/aktuelles/programm/wer-singt-denn-d
 a/
SUMMARY:Wer singt denn da?
DESCRIPTION:Erleben Sie die Vogelwelt zur Hochsaison. Benedikt Jackowski ni
 mmt Sie mit auf eine akustische Entdeckungsreise. Erfahren Sie\, wie Sie d
 ie Sänger an ihrem Lied erkennen können. Wenn möglich\, Fernglas mitbri
 ngen!
LOCATION:Tempelhofer Feld\, Tempelhofer Feld\, Deutschland
X-APPLE-STRUCTURED-LOCATION;VALUE=URI;X-ADDRESS=Tempelhofer Feld\, Deutschl
 and;X-APPLE-RADIUS=100;X-TITLE=Tempelhofer Feld:geo:0,0
END:VEVENT
BEGIN:VTIMEZONE
TZID:Europe/Berlin
X-LIC-LOCATION:Europe/Berlin
BEGIN:DAYLIGHT
DTSTART:20260329T030000
TZOFFSETFROM:+0100
TZOFFSETTO:+0200
TZNAME:CEST
END:DAYLIGHT
END:VTIMEZONE
END:VCALENDARBEGIN:VCALENDAR
VERSION:2.0
PRODID:-//wp-events-plugin.com//7.2.3.1//EN
TZID:Europe/Berlin
X-WR-TIMEZONE:Europe/Berlin
BEGIN:VEVENT
UID:9709@freilandlabor-britz.de
DTSTART;TZID=Europe/Berlin:20260523T090000
DTEND;TZID=Europe/Berlin:20260523T110000
DTSTAMP:20260423T125720Z
URL:https://www.freilandlabor-britz.de/aktuelles/programm/wer-singt-denn-d
 a/
SUMMARY:Wer singt denn da?
DESCRIPTION:Erleben Sie die Vogelwelt zur Hochsaison. Benedikt Jackowski ni
 mmt Sie mit auf eine akustische Entdeckungsreise. Erfahren Sie\, wie Sie d
 ie Sänger an ihrem Lied erkennen können. Wenn möglich\, Fernglas mitbri
 ngen!
LOCATION:Tempelhofer Feld\, Tempelhofer Feld\, Deutschland
X-APPLE-STRUCTURED-LOCATION;VALUE=URI;X-ADDRESS=Tempelhofer Feld\, Deutschl
 and;X-APPLE-RADIUS=100;X-TITLE=Tempelhofer Feld:geo:0,0
END:VEVENT
BEGIN:VTIMEZONE
TZID:Europe/Berlin
X-LIC-LOCATION:Europe/Berlin
BEGIN:DAYLIGHT
DTSTART:20260329T030000
TZOFFSETFROM:+0100
TZOFFSETTO:+0200
TZNAME:CEST
END:DAYLIGHT
END:VTIMEZONE
END:VCALENDAR