BEGIN:VCALENDAR
VERSION:2.0
PRODID:-//wp-events-plugin.com//7.2.3.1//EN
TZID:Europe/Berlin
X-WR-TIMEZONE:Europe/Berlin
BEGIN:VEVENT
UID:9723@freilandlabor-britz.de
DTSTART;TZID=Europe/Berlin:20260531T130000
DTEND;TZID=Europe/Berlin:20260531T143000
DTSTAMP:20260423T132200Z
URL:https://www.freilandlabor-britz.de/aktuelles/programm/wiesensafari-ins
 ekten-auf-der-wiese-entdeckungstour-fuer-die-ganze-familie/
SUMMARY:Wiesensafari: Insekten auf der Wiese - Entdeckungstour für die gan
 ze Familie
DESCRIPTION:Im Rahmen des Langen Tages der Stadtnatur\n\nFamilien mit Kinde
 r ab 6 Jahren tauchen ein ins Tempelhofer Wiesenmeer. Gemeinsam mit Steffi
  Haubold gehen Sie auf Entdeckungstour. Wer findet die Blauflügelige Ödl
 andschrecke oder eine Büffelzikade? Wir schärfen unsere Sinne\, probiere
 n aus\, wie Heuschrecken zirpen und gestalten Wiesenpostkarten.\n\nLeitung
 : Steffi Haubold\n\n&nbsp\;\n\n&nbsp\;\n\n&nbsp\;
LOCATION:Tempelhofer Feld\, Tempelhofer Feld\, Deutschland
X-APPLE-STRUCTURED-LOCATION;VALUE=URI;X-ADDRESS=Tempelhofer Feld\, Deutschl
 and;X-APPLE-RADIUS=100;X-TITLE=Tempelhofer Feld:geo:0,0
END:VEVENT
BEGIN:VTIMEZONE
TZID:Europe/Berlin
X-LIC-LOCATION:Europe/Berlin
BEGIN:DAYLIGHT
DTSTART:20260329T030000
TZOFFSETFROM:+0100
TZOFFSETTO:+0200
TZNAME:CEST
END:DAYLIGHT
END:VTIMEZONE
END:VCALENDARBEGIN:VCALENDAR
VERSION:2.0
PRODID:-//wp-events-plugin.com//7.2.3.1//EN
TZID:Europe/Berlin
X-WR-TIMEZONE:Europe/Berlin
BEGIN:VEVENT
UID:9723@freilandlabor-britz.de
DTSTART;TZID=Europe/Berlin:20260531T130000
DTEND;TZID=Europe/Berlin:20260531T143000
DTSTAMP:20260423T132200Z
URL:https://www.freilandlabor-britz.de/aktuelles/programm/wiesensafari-ins
 ekten-auf-der-wiese-entdeckungstour-fuer-die-ganze-familie/
SUMMARY:Wiesensafari: Insekten auf der Wiese - Entdeckungstour für die gan
 ze Familie
DESCRIPTION:Im Rahmen des Langen Tages der Stadtnatur\n\nFamilien mit Kinde
 r ab 6 Jahren tauchen ein ins Tempelhofer Wiesenmeer. Gemeinsam mit Steffi
  Haubold gehen Sie auf Entdeckungstour. Wer findet die Blauflügelige Ödl
 andschrecke oder eine Büffelzikade? Wir schärfen unsere Sinne\, probiere
 n aus\, wie Heuschrecken zirpen und gestalten Wiesenpostkarten.\n\nLeitung
 : Steffi Haubold\n\n&nbsp\;\n\n&nbsp\;\n\n&nbsp\;
LOCATION:Tempelhofer Feld\, Tempelhofer Feld\, Deutschland
X-APPLE-STRUCTURED-LOCATION;VALUE=URI;X-ADDRESS=Tempelhofer Feld\, Deutschl
 and;X-APPLE-RADIUS=100;X-TITLE=Tempelhofer Feld:geo:0,0
END:VEVENT
BEGIN:VTIMEZONE
TZID:Europe/Berlin
X-LIC-LOCATION:Europe/Berlin
BEGIN:DAYLIGHT
DTSTART:20260329T030000
TZOFFSETFROM:+0100
TZOFFSETTO:+0200
TZNAME:CEST
END:DAYLIGHT
END:VTIMEZONE
END:VCALENDAR