BEGIN:VCALENDAR
VERSION:2.0
PRODID:-//wp-events-plugin.com//7.2.3.1//EN
TZID:Europe/Berlin
X-WR-TIMEZONE:Europe/Berlin
BEGIN:VEVENT
UID:9700@freilandlabor-britz.de
DTSTART;TZID=Europe/Berlin:20260503T140000
DTEND;TZID=Europe/Berlin:20260503T153000
DTSTAMP:20260415T085029Z
URL:https://www.freilandlabor-britz.de/aktuelles/programm/wildkraeuter-in-
 der-kueche/
SUMMARY:Wildkräuter in der Küche
DESCRIPTION:Es grünt ringsum in Wald und Wiese\, viele Pflanzen stecken je
 tzt voller Vitamine\, Mineralien und voll Aroma. Welche dieser Kräuter ka
 nn ich in der Küche verwenden? Manuela Wächter zeigt sie auf einem Rundg
 ang und erklärt ihre Verwendung.
LOCATION:Britzer Garten\, Britzer Garten\, Deutschland
X-APPLE-STRUCTURED-LOCATION;VALUE=URI;X-ADDRESS=Britzer Garten\, Deutschlan
 d;X-APPLE-RADIUS=100;X-TITLE=Britzer Garten:geo:0,0
END:VEVENT
BEGIN:VTIMEZONE
TZID:Europe/Berlin
X-LIC-LOCATION:Europe/Berlin
BEGIN:DAYLIGHT
DTSTART:20260329T030000
TZOFFSETFROM:+0100
TZOFFSETTO:+0200
TZNAME:CEST
END:DAYLIGHT
END:VTIMEZONE
END:VCALENDARBEGIN:VCALENDAR
VERSION:2.0
PRODID:-//wp-events-plugin.com//7.2.3.1//EN
TZID:Europe/Berlin
X-WR-TIMEZONE:Europe/Berlin
BEGIN:VEVENT
UID:9700@freilandlabor-britz.de
DTSTART;TZID=Europe/Berlin:20260503T140000
DTEND;TZID=Europe/Berlin:20260503T153000
DTSTAMP:20260415T085029Z
URL:https://www.freilandlabor-britz.de/aktuelles/programm/wildkraeuter-in-
 der-kueche/
SUMMARY:Wildkräuter in der Küche
DESCRIPTION:Es grünt ringsum in Wald und Wiese\, viele Pflanzen stecken je
 tzt voller Vitamine\, Mineralien und voll Aroma. Welche dieser Kräuter ka
 nn ich in der Küche verwenden? Manuela Wächter zeigt sie auf einem Rundg
 ang und erklärt ihre Verwendung.
LOCATION:Britzer Garten\, Britzer Garten\, Deutschland
X-APPLE-STRUCTURED-LOCATION;VALUE=URI;X-ADDRESS=Britzer Garten\, Deutschlan
 d;X-APPLE-RADIUS=100;X-TITLE=Britzer Garten:geo:0,0
END:VEVENT
BEGIN:VTIMEZONE
TZID:Europe/Berlin
X-LIC-LOCATION:Europe/Berlin
BEGIN:DAYLIGHT
DTSTART:20260329T030000
TZOFFSETFROM:+0100
TZOFFSETTO:+0200
TZNAME:CEST
END:DAYLIGHT
END:VTIMEZONE
END:VCALENDAR